BEGIN:VCALENDAR
VERSION:2.0
PRODID:icalendar-ruby
CALSCALE:GREGORIAN
METHOD:PUBLISH
BEGIN:VEVENT
DTSTAMP:20260426T033227Z
UID:36-406567@whiteoakpond.org
DTSTART:20260927T144500Z
DTEND:20260927T154500Z
CLASS:PUBLIC
CREATED:20260425T191730
DESCRIPTION:Our Sunday School classes are open to all and are in session Au
 gust through May. \n\nLittle Sprouts\, ages 0-2\nGrowing Saplings\, ages
  3-5 \nMighty Oaks\, age 6 through 6th grade\nYouth\, 7th-12th grade\nEnc
 ounter Class\, all adults\nPonderers Class\, all adults
LAST-MODIFIED:20260425T191730
LOCATION:
SUMMARY:Sunday School
URL;VALUE=URI:https://www.whiteoakpond.org/events/sunday-school/2026-09-27
ATTACH;FILENAME=Sunday School.png;FMTTYPE=image/png:https://dq5pwpg1q8ru0.c
 loudfront.net/2023/10/25/11/44/12/ff8b614f-e1f3-4be8-8c35-78ae870b2935/Sun
 day%20School.png
END:VEVENT
END:VCALENDAR
